BEGIN:VCALENDAR
VERSION:2.0
PRODID:spatie/icalendar-generator
DESCRIPTION:Events from Orleans Photo Club
X-WR-CALDESC:Events from Orleans Photo Club
REFRESH-INTERVAL;VALUE=DURATION:PT1440M
X-PUBLISHED-TTL:PT1440M
BEGIN:VTIMEZONE
TZID:America/Toronto
BEGIN:STANDARD
DTSTART:20231105T020000Z
TZOFFSETFROM:-0400
TZOFFSETTO:-0500
END:STANDARD
BEGIN:DAYLIGHT
DTSTART:20240310T020000Z
TZOFFSETFROM:-0500
TZOFFSETTO:-0400
END:DAYLIGHT
END:VTIMEZONE
BEGIN:VTIMEZONE
TZID:UTC
BEGIN:STANDARD
DTSTART:20250727T163624Z
TZOFFSETFROM:+0000
TZOFFSETTO:+0000
END:STANDARD
END:VTIMEZONE
BEGIN:VEVENT
UID:103-65
DTSTAMP:20260423T163624Z
SUMMARY:January 2024 Workshop - Winter Photography
LOCATION:
ORGANIZER;CN=CPOPC Communications Director:MAILTO:communications@cpopc.ca
DTSTART;TZID=America/Toronto:20240127T100000
DTEND;TZID=America/Toronto:20240127T120000
X-ALT-DESC;FMTTYPE=TEXT/HTML:Kas Stone is a professional photographer based
  in Nova Scotia\, where she finds plenty of inspiration in the wild coasta
 l scenery and moody weather right outside her door – especially in winte
 rtime! Her portfolio includes an extensive list of presentations\, exhibit
 ions and publications\, with several books and feature articles in Canadia
 n and U.K. magazines. &amp;nbsp\;&amp;hellip\;
CATEGORIES:General
URL;VALUE=URI:https://cpopc.ca/mc-events/january-2024-workshop-winter-photo
 graphy/
METHOD:PUBLISH
END:VEVENT
END:VCALENDAR