BEGIN:VCALENDAR
VERSION:2.0
PRODID:spatie/icalendar-generator
DESCRIPTION:Events from Orleans Photo Club
X-WR-CALDESC:Events from Orleans Photo Club
REFRESH-INTERVAL;VALUE=DURATION:PT1440M
X-PUBLISHED-TTL:PT1440M
BEGIN:VTIMEZONE
TZID:America/Toronto
BEGIN:STANDARD
DTSTART:20231105T020000Z
TZOFFSETFROM:-0400
TZOFFSETTO:-0500
END:STANDARD
BEGIN:DAYLIGHT
DTSTART:20240310T020000Z
TZOFFSETFROM:-0500
TZOFFSETTO:-0400
END:DAYLIGHT
END:VTIMEZONE
BEGIN:VTIMEZONE
TZID:UTC
BEGIN:STANDARD
DTSTART:20250727T203452Z
TZOFFSETFROM:+0000
TZOFFSETTO:+0000
END:STANDARD
END:VTIMEZONE
BEGIN:VEVENT
UID:111-73
DTSTAMP:20260423T203452Z
SUMMARY:Outing: Architecture at the National Gallery of Canada
LOCATION:
ORGANIZER;CN=CPOPC Communications Director:MAILTO:communications@cpopc.ca
DTSTART;TZID=America/Toronto:20240330T100000
DTEND;TZID=America/Toronto:20240330T110000
X-ALT-DESC;FMTTYPE=TEXT/HTML:Location: National Gallery of Canada (www.gall
 ery.ca) 380 Sussex Dr\, Ottawa ON&amp;nbsp\; Members will meet at 9:45am under
  Maman\, the giant spider sculpture in front of the main entrance.  The g
 allery opens at 10am. Underground parking is available. Time: 10:00am onw
 ards.&amp;nbsp\; To enter the gallery you will have to purchase a $20 ticket 
 in advance at https://tickets.gallery.ca/webstore/shop/viewItems.aspx Th
 is ticket allows&amp;hellip\;
CATEGORIES:General
URL;VALUE=URI:https://cpopc.ca/mc-events/outing-architecture-at-the-nationa
 l-gallery-of-canada/
METHOD:PUBLISH
END:VEVENT
END:VCALENDAR