BEGIN:VCALENDAR
VERSION:2.0
PRODID:spatie/icalendar-generator
DESCRIPTION:Events from Orleans Photo Club
X-WR-CALDESC:Events from Orleans Photo Club
REFRESH-INTERVAL;VALUE=DURATION:PT1440M
X-PUBLISHED-TTL:PT1440M
BEGIN:VTIMEZONE
TZID:America/Toronto
BEGIN:STANDARD
DTSTART:20231105T020000Z
TZOFFSETFROM:-0400
TZOFFSETTO:-0500
END:STANDARD
BEGIN:DAYLIGHT
DTSTART:20240310T020000Z
TZOFFSETFROM:-0500
TZOFFSETTO:-0400
END:DAYLIGHT
END:VTIMEZONE
BEGIN:VTIMEZONE
TZID:UTC
BEGIN:STANDARD
DTSTART:20250727T191530Z
TZOFFSETFROM:+0000
TZOFFSETTO:+0000
END:STANDARD
END:VTIMEZONE
BEGIN:VEVENT
UID:115-77
DTSTAMP:20260423T191530Z
SUMMARY:Outing: Architecture at the National Gallery of Canada - Registrati
 on Deadline
LOCATION:
ORGANIZER;CN=CPOPC Communications Director:MAILTO:communications@cpopc.ca
DTSTART;TZID=America/Toronto:20240328T100000
DTEND;TZID=America/Toronto:20240328T110000
X-ALT-DESC;FMTTYPE=TEXT/HTML:https://cpopc.ca/2023-2024-year/mar-2024-outin
 g-national-art-gallery/
CATEGORIES:General
URL;VALUE=URI:https://cpopc.ca/mc-events/outing-architecture-at-the-nationa
 l-gallery-of-canada-registration-deadline/
METHOD:PUBLISH
END:VEVENT
END:VCALENDAR