BEGIN:VCALENDAR
VERSION:2.0
PRODID:spatie/icalendar-generator
DESCRIPTION:Events from Orleans Photo Club
X-WR-CALDESC:Events from Orleans Photo Club
REFRESH-INTERVAL;VALUE=DURATION:PT1440M
X-PUBLISHED-TTL:PT1440M
BEGIN:VTIMEZONE
TZID:America/Toronto
BEGIN:STANDARD
DTSTART:20251102T020000Z
TZOFFSETFROM:-0400
TZOFFSETTO:-0500
END:STANDARD
BEGIN:DAYLIGHT
DTSTART:20260308T020000Z
TZOFFSETFROM:-0500
TZOFFSETTO:-0400
END:DAYLIGHT
END:VTIMEZONE
BEGIN:VTIMEZONE
TZID:UTC
BEGIN:STANDARD
DTSTART:20250728T002211Z
TZOFFSETFROM:+0000
TZOFFSETTO:+0000
END:STANDARD
END:VTIMEZONE
BEGIN:VEVENT
UID:193-133
DTSTAMP:20260424T002211Z
SUMMARY:CPOPC Dec Club Meeting
LOCATION:
ORGANIZER;CN=CPOPC Webmaster:MAILTO:jwrminer@gmail.com
DTSTART;TZID=America/Toronto;VALUE=DATE:20251213
DTEND;TZID=America/Toronto;VALUE=DATE:20251214
X-ALT-DESC;FMTTYPE=TEXT/HTML:Come join us from 10am to 1pm for an in-person
  meeting at the Queenswood Heights Community Centre\,  This meeting is ou
 r annual pot luck lunch\,
CATEGORIES:General
URL;VALUE=URI:https://cpopc.ca/mc-events/cpopc-dec-club-meeting/
METHOD:PUBLISH
END:VEVENT
END:VCALENDAR