BEGIN:VCALENDAR
VERSION:2.0
PRODID:spatie/icalendar-generator
DESCRIPTION:Events from Orleans Photo Club
X-WR-CALDESC:Events from Orleans Photo Club
REFRESH-INTERVAL;VALUE=DURATION:PT1440M
X-PUBLISHED-TTL:PT1440M
BEGIN:VTIMEZONE
TZID:America/Toronto
BEGIN:STANDARD
DTSTART:20251102T020000Z
TZOFFSETFROM:-0400
TZOFFSETTO:-0500
END:STANDARD
BEGIN:DAYLIGHT
DTSTART:20260308T020000Z
TZOFFSETFROM:-0500
TZOFFSETTO:-0400
END:DAYLIGHT
END:VTIMEZONE
BEGIN:VTIMEZONE
TZID:UTC
BEGIN:STANDARD
DTSTART:20250728T015432Z
TZOFFSETFROM:+0000
TZOFFSETTO:+0000
END:STANDARD
END:VTIMEZONE
BEGIN:VEVENT
UID:212-152
DTSTAMP:20260424T015432Z
SUMMARY:Christmas Lights at Vintage Village Outing - Last day to register
LOCATION:
ORGANIZER;CN=CPOPC Webmaster:MAILTO:jwrminer@gmail.com
DTSTART;TZID=America/Toronto:20251207T000000
DTEND;TZID=America/Toronto:20251207T010000
X-ALT-DESC;FMTTYPE=TEXT/HTML:Last day to register for the Outing: Christmas
  Lights at Vintage Village Outing.  Please register here.
CATEGORIES:General
URL;VALUE=URI:https://cpopc.ca/mc-events/christmas-lights-at-vintage-villag
 e-outing-last-day-to-register/
METHOD:PUBLISH
END:VEVENT
END:VCALENDAR