BEGIN:VCALENDAR
VERSION:2.0
PRODID:spatie/icalendar-generator
DESCRIPTION:Events from Orleans Photo Club
X-WR-CALDESC:Events from Orleans Photo Club
REFRESH-INTERVAL;VALUE=DURATION:PT1440M
X-PUBLISHED-TTL:PT1440M
BEGIN:VTIMEZONE
TZID:America/Toronto
BEGIN:STANDARD
DTSTART:20221106T020000Z
TZOFFSETFROM:-0400
TZOFFSETTO:-0500
END:STANDARD
BEGIN:DAYLIGHT
DTSTART:20230312T020000Z
TZOFFSETFROM:-0500
TZOFFSETTO:-0400
END:DAYLIGHT
END:VTIMEZONE
BEGIN:VTIMEZONE
TZID:UTC
BEGIN:STANDARD
DTSTART:20250727T173325Z
TZOFFSETFROM:+0000
TZOFFSETTO:+0000
END:STANDARD
END:VTIMEZONE
BEGIN:VEVENT
UID:23-7
DTSTAMP:20260423T173325Z
SUMMARY:CPOPC Monthly Meeting
LOCATION:
ORGANIZER;CN=CPOPC Webmaster:MAILTO:jwrminer@gmail.com
DTSTART;TZID=America/Toronto:20230211T190000
DTEND;TZID=America/Toronto:20230211T200000
X-ALT-DESC;FMTTYPE=TEXT/HTML:Our monthly member's meeting occurs on the sec
 ond Saturday of each month (except for July and August). At present we are
  still on Zoom\, but hope to return to in-person meetings soon. If you are
  not a returning member and would like to attend as a guest\, please conta
 ct webmaster@CPOPC.ca to receive an invitation.
CATEGORIES:General
URL;VALUE=URI:https://cpopc.ca/mc-events/cpopc-monthly-meeting-2/
METHOD:PUBLISH
END:VEVENT
END:VCALENDAR