BEGIN:VCALENDAR
VERSION:2.0
PRODID:spatie/icalendar-generator
DESCRIPTION:Events from Orleans Photo Club
X-WR-CALDESC:Events from Orleans Photo Club
REFRESH-INTERVAL;VALUE=DURATION:PT1440M
X-PUBLISHED-TTL:PT1440M
BEGIN:VTIMEZONE
TZID:America/Toronto
BEGIN:STANDARD
DTSTART:20221106T020000Z
TZOFFSETFROM:-0400
TZOFFSETTO:-0500
END:STANDARD
BEGIN:DAYLIGHT
DTSTART:20230312T020000Z
TZOFFSETFROM:-0500
TZOFFSETTO:-0400
END:DAYLIGHT
END:VTIMEZONE
BEGIN:VTIMEZONE
TZID:UTC
BEGIN:STANDARD
DTSTART:20250727T191331Z
TZOFFSETFROM:+0000
TZOFFSETTO:+0000
END:STANDARD
END:VTIMEZONE
BEGIN:VEVENT
UID:46-19
DTSTAMP:20260423T191331Z
SUMMARY:Interclub Competition Virtual Presentation
LOCATION:
ORGANIZER;CN=CPOPC Webmaster:MAILTO:jwrminer@gmail.com
DTSTART;TZID=America/Toronto:20230404T190000
DTEND;TZID=America/Toronto:20230404T200000
X-ALT-DESC;FMTTYPE=TEXT/HTML:The virtual presentation of the results of the
  Interclub Competition will take place on the evening of Tuesday\, April 0
 4\, 2023.  The presentation will be made on YouTube accessed by the foll
 owing link: https://youtube.com/live/nDV3RuWAzjg?feature=share
CATEGORIES:General
URL;VALUE=URI:https://cpopc.ca/mc-events/interclub-competition-virtual-pres
 entation/
METHOD:PUBLISH
END:VEVENT
END:VCALENDAR