BEGIN:VCALENDAR
VERSION:2.0
PRODID:spatie/icalendar-generator
DESCRIPTION:Events from Orleans Photo Club
X-WR-CALDESC:Events from Orleans Photo Club
REFRESH-INTERVAL;VALUE=DURATION:PT1440M
X-PUBLISHED-TTL:PT1440M
BEGIN:VTIMEZONE
TZID:America/Toronto
BEGIN:DAYLIGHT
DTSTART:20230312T020000Z
TZOFFSETFROM:-0500
TZOFFSETTO:-0400
END:DAYLIGHT
BEGIN:STANDARD
DTSTART:20231105T020000Z
TZOFFSETFROM:-0400
TZOFFSETTO:-0500
END:STANDARD
BEGIN:DAYLIGHT
DTSTART:20240310T020000Z
TZOFFSETFROM:-0500
TZOFFSETTO:-0400
END:DAYLIGHT
END:VTIMEZONE
BEGIN:VTIMEZONE
TZID:UTC
BEGIN:STANDARD
DTSTART:20250727T202225Z
TZOFFSETFROM:+0000
TZOFFSETTO:+0000
END:STANDARD
END:VTIMEZONE
BEGIN:VEVENT
UID:95-48
DTSTAMP:20260423T202225Z
SUMMARY:Fall 2023 Competition - Submission Deadline - Simplicity
LOCATION:
ORGANIZER;CN=CPOPC Communications Director:MAILTO:communications@cpopc.ca
DTSTART;TZID=America/Toronto:20231118T213000
DTEND;TZID=America/Toronto:20231118T223000
X-ALT-DESC;FMTTYPE=TEXT/HTML:Images should represent the state of being sim
 ple\, uncomplicated or un-compounded. This competition should showcase the
  photographic concept of less is more.
CATEGORIES:General
URL;VALUE=URI:https://cpopc.ca/mc-events/fall-2023-competition-submission-d
 eadline-simplicity/
METHOD:PUBLISH
END:VEVENT
END:VCALENDAR