BEGIN:VCALENDAR
VERSION:2.0
PRODID:spatie/icalendar-generator
DESCRIPTION:Events from Orleans Photo Club
X-WR-CALDESC:Events from Orleans Photo Club
REFRESH-INTERVAL;VALUE=DURATION:PT1440M
X-PUBLISHED-TTL:PT1440M
BEGIN:VTIMEZONE
TZID:America/Toronto
BEGIN:DAYLIGHT
DTSTART:20230312T020000Z
TZOFFSETFROM:-0500
TZOFFSETTO:-0400
END:DAYLIGHT
BEGIN:STANDARD
DTSTART:20231105T020000Z
TZOFFSETFROM:-0400
TZOFFSETTO:-0500
END:STANDARD
BEGIN:DAYLIGHT
DTSTART:20240310T020000Z
TZOFFSETFROM:-0500
TZOFFSETTO:-0400
END:DAYLIGHT
END:VTIMEZONE
BEGIN:VTIMEZONE
TZID:UTC
BEGIN:STANDARD
DTSTART:20250727T190214Z
TZOFFSETFROM:+0000
TZOFFSETTO:+0000
END:STANDARD
END:VTIMEZONE
BEGIN:VEVENT
UID:100-62
DTSTAMP:20260423T190214Z
SUMMARY:CPOPC Outing - Gatineau Park Walk
LOCATION:
ORGANIZER;CN=CPOPC Communications Director:MAILTO:communications@cpopc.ca
DTSTART;TZID=America/Toronto:20231014T080000
DTEND;TZID=America/Toronto:20231014T110000
X-ALT-DESC;FMTTYPE=TEXT/HTML:We will be having at Gatineau park walk and ph
 oto shoot on October 14. We will be meeting at the Gatineau Park P11 Parki
 ng Lots at 8:00am. Bring your cameras\, tripods and any other photography 
 equipment you might use!
CATEGORIES:General
URL;VALUE=URI:https://cpopc.ca/mc-events/cpopc-outing-gatineau-park-walk/
METHOD:PUBLISH
END:VEVENT
END:VCALENDAR