BEGIN:VCALENDAR
VERSION:2.0
PRODID:spatie/icalendar-generator
DESCRIPTION:Events from Orleans Photo Club
X-WR-CALDESC:Events from Orleans Photo Club
REFRESH-INTERVAL;VALUE=DURATION:PT1440M
X-PUBLISHED-TTL:PT1440M
BEGIN:VTIMEZONE
TZID:America/Toronto
BEGIN:STANDARD
DTSTART:20231105T020000Z
TZOFFSETFROM:-0400
TZOFFSETTO:-0500
END:STANDARD
BEGIN:DAYLIGHT
DTSTART:20240310T020000Z
TZOFFSETFROM:-0500
TZOFFSETTO:-0400
END:DAYLIGHT
END:VTIMEZONE
BEGIN:VTIMEZONE
TZID:UTC
BEGIN:STANDARD
DTSTART:20250727T163549Z
TZOFFSETFROM:+0000
TZOFFSETTO:+0000
END:STANDARD
END:VTIMEZONE
BEGIN:VEVENT
UID:104-66
DTSTAMP:20260423T163549Z
SUMMARY:January 2024 Workshop Registration Open - Link in Description
LOCATION:
ORGANIZER;CN=CPOPC Communications Director:MAILTO:communications@cpopc.ca
DTSTART;TZID=America/Toronto:20240101T100000
DTEND;TZID=America/Toronto:20240101T110000
X-ALT-DESC;FMTTYPE=TEXT/HTML:https://cpopc.ca/2023-2024-year/jan-2024-works
 hop-winter-photography/
CATEGORIES:General
URL;VALUE=URI:https://cpopc.ca/mc-events/january-2024-workshop-registration
 -open-link-in-description/
METHOD:PUBLISH
END:VEVENT
END:VCALENDAR