BEGIN:VCALENDAR
VERSION:2.0
PRODID:spatie/icalendar-generator
DESCRIPTION:Events from Orleans Photo Club
X-WR-CALDESC:Events from Orleans Photo Club
REFRESH-INTERVAL;VALUE=DURATION:PT1440M
X-PUBLISHED-TTL:PT1440M
BEGIN:VTIMEZONE
TZID:America/Toronto
BEGIN:STANDARD
DTSTART:20231105T020000Z
TZOFFSETFROM:-0400
TZOFFSETTO:-0500
END:STANDARD
BEGIN:DAYLIGHT
DTSTART:20240310T020000Z
TZOFFSETFROM:-0500
TZOFFSETTO:-0400
END:DAYLIGHT
END:VTIMEZONE
BEGIN:VTIMEZONE
TZID:UTC
BEGIN:STANDARD
DTSTART:20250727T214932Z
TZOFFSETFROM:+0000
TZOFFSETTO:+0000
END:STANDARD
END:VTIMEZONE
BEGIN:VEVENT
UID:110-72
DTSTAMP:20260423T214932Z
SUMMARY:Food Photography Workshop
LOCATION:
ORGANIZER;CN=CPOPC Communications Director:MAILTO:communications@cpopc.ca
DTSTART;TZID=America/Toronto:20240420T000000
DTEND;TZID=America/Toronto:20240420T010000
X-ALT-DESC;FMTTYPE=TEXT/HTML:During this workshop Adrien will demonstrate a
  typical lighting set up used on location for food shoots. We will be lear
 ning about quality of light\, basic lighting techniques for food\, positiv
 e and negative fill. We will also be working with Speedlites and studio st
 robes\, Light modifiers and reflectors and how to flag the key light&amp;helli
 p\;
CATEGORIES:General
URL;VALUE=URI:https://cpopc.ca/mc-events/food-photography-workshop/
METHOD:PUBLISH
END:VEVENT
END:VCALENDAR