BEGIN:VCALENDAR
VERSION:2.0
PRODID:spatie/icalendar-generator
DESCRIPTION:Events from Orleans Photo Club
X-WR-CALDESC:Events from Orleans Photo Club
REFRESH-INTERVAL;VALUE=DURATION:PT1440M
X-PUBLISHED-TTL:PT1440M
BEGIN:VTIMEZONE
TZID:America/Toronto
BEGIN:STANDARD
DTSTART:20251102T020000Z
TZOFFSETFROM:-0400
TZOFFSETTO:-0500
END:STANDARD
BEGIN:DAYLIGHT
DTSTART:20260308T020000Z
TZOFFSETFROM:-0500
TZOFFSETTO:-0400
END:DAYLIGHT
END:VTIMEZONE
BEGIN:VTIMEZONE
TZID:UTC
BEGIN:STANDARD
DTSTART:20250727T164257Z
TZOFFSETFROM:+0000
TZOFFSETTO:+0000
END:STANDARD
END:VTIMEZONE
BEGIN:VEVENT
UID:196-137
DTSTAMP:20260423T164257Z
SUMMARY:CPOPC Mar Club Meeting
LOCATION:
ORGANIZER;CN=CPOPC Webmaster:MAILTO:jwrminer@gmail.com
DTSTART;TZID=America/Toronto;VALUE=DATE:20260314
DTEND;TZID=America/Toronto;VALUE=DATE:20260315
X-ALT-DESC;FMTTYPE=TEXT/HTML:Please join us on Zoom for a virtual club meet
 ing from 10am to 12:30pm.  You will receive an email Zoom invitation the 
 day before the meeting.
CATEGORIES:General
URL;VALUE=URI:https://cpopc.ca/mc-events/cpopc-mar-club-meeting/
METHOD:PUBLISH
END:VEVENT
END:VCALENDAR