BEGIN:VCALENDAR
VERSION:2.0
PRODID:spatie/icalendar-generator
DESCRIPTION:Events from Orleans Photo Club
X-WR-CALDESC:Events from Orleans Photo Club
REFRESH-INTERVAL;VALUE=DURATION:PT1440M
X-PUBLISHED-TTL:PT1440M
BEGIN:VTIMEZONE
TZID:America/Toronto
BEGIN:STANDARD
DTSTART:20251102T020000Z
TZOFFSETFROM:-0400
TZOFFSETTO:-0500
END:STANDARD
BEGIN:DAYLIGHT
DTSTART:20260308T020000Z
TZOFFSETFROM:-0500
TZOFFSETTO:-0400
END:DAYLIGHT
BEGIN:STANDARD
DTSTART:20261101T020000Z
TZOFFSETFROM:-0400
TZOFFSETTO:-0500
END:STANDARD
END:VTIMEZONE
BEGIN:VTIMEZONE
TZID:UTC
BEGIN:STANDARD
DTSTART:20250727T210959Z
TZOFFSETFROM:+0000
TZOFFSETTO:+0000
END:STANDARD
END:VTIMEZONE
BEGIN:VEVENT
UID:199-140
DTSTAMP:20260423T210959Z
SUMMARY:CPOPC June Club Meeting
LOCATION:
ORGANIZER;CN=CPOPC Webmaster:MAILTO:jwrminer@gmail.com
DTSTART;TZID=America/Toronto;VALUE=DATE:20260613
DTEND;TZID=America/Toronto;VALUE=DATE:20260614
X-ALT-DESC;FMTTYPE=TEXT/HTML:Come join us from 10am to noon for an in-perso
 n meeting at the Queenswood Heights Community Centre\,  This will be our 
 annual general meeting.
CATEGORIES:General
URL;VALUE=URI:https://cpopc.ca/mc-events/cpopc-june-club-meeting/
METHOD:PUBLISH
END:VEVENT
END:VCALENDAR