BEGIN:VCALENDAR
VERSION:2.0
PRODID:spatie/icalendar-generator
DESCRIPTION:Events from Orleans Photo Club
X-WR-CALDESC:Events from Orleans Photo Club
REFRESH-INTERVAL;VALUE=DURATION:PT1440M
X-PUBLISHED-TTL:PT1440M
BEGIN:VTIMEZONE
TZID:America/Toronto
BEGIN:STANDARD
DTSTART:20221106T020000Z
TZOFFSETFROM:-0400
TZOFFSETTO:-0500
END:STANDARD
BEGIN:DAYLIGHT
DTSTART:20230312T020000Z
TZOFFSETFROM:-0500
TZOFFSETTO:-0400
END:DAYLIGHT
END:VTIMEZONE
BEGIN:VTIMEZONE
TZID:UTC
BEGIN:STANDARD
DTSTART:20250727T201413Z
TZOFFSETFROM:+0000
TZOFFSETTO:+0000
END:STANDARD
END:VTIMEZONE
BEGIN:VEVENT
UID:22-9
DTSTAMP:20260423T201413Z
SUMMARY:Feb 2023 Workshop: Still Life – Botanicals on White
LOCATION:
ORGANIZER;CN=CPOPC Webmaster:MAILTO:jwrminer@gmail.com
DTSTART;TZID=America/Toronto:20230218T093000
DTEND;TZID=America/Toronto:20230218T113000
X-ALT-DESC;FMTTYPE=TEXT/HTML:Join Allan Cameron at the RA Photo Club to lea
 rn the basics of still life photography\, including background\, subject p
 lacement\, studio configuration\, lens selection\, light quality\, and dir
 ection.  For more information and to register for this workshop\, click h
 ere.
CATEGORIES:General
URL;VALUE=URI:https://cpopc.ca/mc-events/feb-2023-workshop-still-life-botan
 icals-on-white/
METHOD:PUBLISH
END:VEVENT
END:VCALENDAR