BEGIN:VCALENDAR
VERSION:2.0
PRODID:spatie/icalendar-generator
DESCRIPTION:Events from Orleans Photo Club
X-WR-CALDESC:Events from Orleans Photo Club
REFRESH-INTERVAL;VALUE=DURATION:PT1440M
X-PUBLISHED-TTL:PT1440M
BEGIN:VTIMEZONE
TZID:America/Toronto
BEGIN:STANDARD
DTSTART:20251102T020000Z
TZOFFSETFROM:-0400
TZOFFSETTO:-0500
END:STANDARD
BEGIN:DAYLIGHT
DTSTART:20260308T020000Z
TZOFFSETFROM:-0500
TZOFFSETTO:-0400
END:DAYLIGHT
END:VTIMEZONE
BEGIN:VTIMEZONE
TZID:UTC
BEGIN:STANDARD
DTSTART:20250727T111550Z
TZOFFSETFROM:+0000
TZOFFSETTO:+0000
END:STANDARD
END:VTIMEZONE
BEGIN:VEVENT
UID:224-158
DTSTAMP:20260423T111550Z
SUMMARY:Submission Deadline for April Challenge
LOCATION:
ORGANIZER;CN=CPOPC Webmaster:MAILTO:jwrminer@gmail.com
DTSTART;TZID=America/Toronto;VALUE=DATE:20260404
DTEND;TZID=America/Toronto;VALUE=DATE:20260405
X-ALT-DESC;FMTTYPE=TEXT/HTML:Last day to submit images for the April 2026 C
 hallenge.  To submit click here.
CATEGORIES:General
URL;VALUE=URI:https://cpopc.ca/mc-events/submission-deadline-for-april-chal
 lenge/
METHOD:PUBLISH
END:VEVENT
END:VCALENDAR