BEGIN:VCALENDAR
VERSION:2.0
PRODID:spatie/icalendar-generator
DESCRIPTION:Events from Orleans Photo Club
X-WR-CALDESC:Events from Orleans Photo Club
REFRESH-INTERVAL;VALUE=DURATION:PT1440M
X-PUBLISHED-TTL:PT1440M
BEGIN:VTIMEZONE
TZID:America/Toronto
BEGIN:DAYLIGHT
DTSTART:20230312T020000Z
TZOFFSETFROM:-0500
TZOFFSETTO:-0400
END:DAYLIGHT
BEGIN:STANDARD
DTSTART:20231105T020000Z
TZOFFSETFROM:-0400
TZOFFSETTO:-0500
END:STANDARD
BEGIN:DAYLIGHT
DTSTART:20240310T020000Z
TZOFFSETFROM:-0500
TZOFFSETTO:-0400
END:DAYLIGHT
END:VTIMEZONE
BEGIN:VTIMEZONE
TZID:UTC
BEGIN:STANDARD
DTSTART:20250727T202808Z
TZOFFSETFROM:+0000
TZOFFSETTO:+0000
END:STANDARD
END:VTIMEZONE
BEGIN:VEVENT
UID:64-37
DTSTAMP:20260423T202808Z
SUMMARY:CPOPC Executive Meeting
LOCATION:
ORGANIZER;CN=CPOPC Communications Director:MAILTO:communications@cpopc.ca
DTSTART;TZID=America/Toronto:20231127T190000
DTEND;TZID=America/Toronto:20231127T203000
X-ALT-DESC;FMTTYPE=TEXT/HTML:Online on ZOOM
CATEGORIES:General
URL;VALUE=URI:https://cpopc.ca/mc-events/cpopc-executive-meeting-5/
METHOD:PUBLISH
END:VEVENT
END:VCALENDAR