BEGIN:VCALENDAR
VERSION:2.0
PRODID:spatie/icalendar-generator
DESCRIPTION:Events from Orleans Photo Club
X-WR-CALDESC:Events from Orleans Photo Club
REFRESH-INTERVAL;VALUE=DURATION:PT1440M
X-PUBLISHED-TTL:PT1440M
BEGIN:VTIMEZONE
TZID:America/Toronto
BEGIN:DAYLIGHT
DTSTART:20230312T020000Z
TZOFFSETFROM:-0500
TZOFFSETTO:-0400
END:DAYLIGHT
BEGIN:STANDARD
DTSTART:20231105T020000Z
TZOFFSETFROM:-0400
TZOFFSETTO:-0500
END:STANDARD
END:VTIMEZONE
BEGIN:VTIMEZONE
TZID:UTC
BEGIN:STANDARD
DTSTART:20250727T174350Z
TZOFFSETFROM:+0000
TZOFFSETTO:+0000
END:STANDARD
END:VTIMEZONE
BEGIN:VEVENT
UID:99-43
DTSTAMP:20260423T174350Z
SUMMARY:Summer 2023 Challenge Submission
LOCATION:
ORGANIZER;CN=CPOPC Communications Director:MAILTO:communications@cpopc.ca
DTSTART;TZID=America/Toronto:20230907T000000
DTEND;TZID=America/Toronto:20230907T010000
X-ALT-DESC;FMTTYPE=TEXT/HTML:This is NOT a challenge in which your images a
 re judged by the membership.  This is just an opportunity to kick off the
  new CPOPC season by sharing your summer photo experiences. Upload your fa
 vourite 6 photos or one 60-second video from this summer for our show and 
 tell. Deadline for submissions is Thursday\, September&amp;hellip\;
CATEGORIES:General
URL;VALUE=URI:https://cpopc.ca/mc-events/summer-2023-challenge-submission/
METHOD:PUBLISH
END:VEVENT
END:VCALENDAR